BEGIN:VCALENDAR
VERSION:2.0
PRODID:-//FAR Wholesale - ECPv6.14.0//NONSGML v1.0//EN
CALSCALE:GREGORIAN
METHOD:PUBLISH
X-ORIGINAL-URL:https://www.farwholesale.com
X-WR-CALDESC:Events for FAR Wholesale
REFRESH-INTERVAL;VALUE=DURATION:PT1H
X-Robots-Tag:noindex
X-PUBLISHED-TTL:PT1H
BEGIN:VTIMEZONE
TZID:America/New_York
BEGIN:DAYLIGHT
TZOFFSETFROM:-0500
TZOFFSETTO:-0400
TZNAME:EDT
DTSTART:20210314T070000
END:DAYLIGHT
BEGIN:STANDARD
TZOFFSETFROM:-0400
TZOFFSETTO:-0500
TZNAME:EST
DTSTART:20211107T060000
END:STANDARD
END:VTIMEZONE
BEGIN:VEVENT
DTSTART;TZID=America/New_York:20210722T150000
DTEND;TZID=America/New_York:20210722T160000
DTSTAMP:20260420T075629
CREATED:20210628T183354Z
LAST-MODIFIED:20210628T183354Z
UID:3662-1626966000-1626969600@www.farwholesale.com
SUMMARY:Total Expert Workshop
DESCRIPTION:Total Expert Workshop – 30 minute training on how to use Total Expert \nTrainer: Ryan Schmidt\, Brett Kelly and Meg Murray – Wholesale Marketing Team \nTo register for the class please click here. \nRemember the class will be held at 3 pm\, EST (12 pm\, PST) \nHOW to Join the Webinar \n\nREGISTRATION: Once you register\, you will immediately get a confirmation email that will have the link to the class\, the ability to add that class to your calendar and instructions on joining.\nJOIN: Please join the conference via the provided link in your confirmation email 5-10 minutes prior to the start of the class.\n\nAUDIO: COMPUTER: Once you’re in the waiting room\, you can also choose to listen via your computer’s speakers.\nTELEPHONE: Once you’re in the waiting room\, choose to either “Use Telephone” and call the number provided\, OR\n\n\nACCESS CODE: Then put in the access code followed by #.\nAUDIO CODE: If you’re using your phone for audio\, please also put in Audio Code\n\nYou’re now in the class! We’re looking forward to it!
URL:https://www.farwholesale.com/event/total-expert-workshop-21/
CATEGORIES:Marketing Sessions,Training
ATTACH;FMTTYPE=image/png:https://www.farwholesale.com/app/uploads/2019/08/pipline-landing-page.png
ORGANIZER;CN="Christina Danish":MAILTO:cdanish@fareverse.com
END:VEVENT
BEGIN:VEVENT
DTSTART;TZID=America/New_York:20210715T150000
DTEND;TZID=America/New_York:20210715T160000
DTSTAMP:20260420T075629
CREATED:20210628T183150Z
LAST-MODIFIED:20210628T183150Z
UID:3660-1626361200-1626364800@www.farwholesale.com
SUMMARY:Total Expert Workshop
DESCRIPTION:Total Expert Workshop – 30 minute training on how to use Total Expert \nTrainer: Ryan Schmidt\, Brett Kelly and Meg Murray – Wholesale Marketing Team \nTo register for the class please click here. \nRemember the class will be held at 3 pm\, EST (12 pm\, PST) \nHOW to Join the Webinar \n\nREGISTRATION: Once you register\, you will immediately get a confirmation email that will have the link to the class\, the ability to add that class to your calendar and instructions on joining.\nJOIN: Please join the conference via the provided link in your confirmation email 5-10 minutes prior to the start of the class.\n\nAUDIO: COMPUTER: Once you’re in the waiting room\, you can also choose to listen via your computer’s speakers.\nTELEPHONE: Once you’re in the waiting room\, choose to either “Use Telephone” and call the number provided\, OR\n\n\nACCESS CODE: Then put in the access code followed by #.\nAUDIO CODE: If you’re using your phone for audio\, please also put in Audio Code\n\nYou’re now in the class! We’re looking forward to it!
URL:https://www.farwholesale.com/event/total-expert-workshop-20/
CATEGORIES:Marketing Sessions,Training
ATTACH;FMTTYPE=image/png:https://www.farwholesale.com/app/uploads/2019/08/pipline-landing-page.png
ORGANIZER;CN="Christina Danish":MAILTO:cdanish@fareverse.com
END:VEVENT
BEGIN:VEVENT
DTSTART;TZID=America/New_York:20210708T150000
DTEND;TZID=America/New_York:20210708T160000
DTSTAMP:20260420T075629
CREATED:20210628T183037Z
LAST-MODIFIED:20210628T183037Z
UID:3658-1625756400-1625760000@www.farwholesale.com
SUMMARY:Total Expert Workshop
DESCRIPTION:Total Expert Workshop – 30 minute training on how to use Total Expert \nTrainer: Ryan Schmidt\, Brett Kelly and Meg Murray – Wholesale Marketing Team \nTo register for the class please click here. \nRemember the class will be held at 3 pm\, EST (12 pm\, PST) \nHOW to Join the Webinar \n\nREGISTRATION: Once you register\, you will immediately get a confirmation email that will have the link to the class\, the ability to add that class to your calendar and instructions on joining.\nJOIN: Please join the conference via the provided link in your confirmation email 5-10 minutes prior to the start of the class.\n\nAUDIO: COMPUTER: Once you’re in the waiting room\, you can also choose to listen via your computer’s speakers.\nTELEPHONE: Once you’re in the waiting room\, choose to either “Use Telephone” and call the number provided\, OR\n\n\nACCESS CODE: Then put in the access code followed by #.\nAUDIO CODE: If you’re using your phone for audio\, please also put in Audio Code\n\nYou’re now in the class! We’re looking forward to it!
URL:https://www.farwholesale.com/event/total-expert-workshop-19/
CATEGORIES:Marketing Sessions,Training
ATTACH;FMTTYPE=image/png:https://www.farwholesale.com/app/uploads/2019/08/pipline-landing-page.png
ORGANIZER;CN="Christina Danish":MAILTO:cdanish@fareverse.com
END:VEVENT
BEGIN:VEVENT
DTSTART;TZID=America/New_York:20210701T150000
DTEND;TZID=America/New_York:20210701T160000
DTSTAMP:20260420T075629
CREATED:20210628T163321Z
LAST-MODIFIED:20210628T163321Z
UID:3644-1625151600-1625155200@www.farwholesale.com
SUMMARY:Total Expert Workshop
DESCRIPTION:Total Expert Workshop – 30 minute training on how to use Total Expert \nTrainer: Ryan Schmidt\, Brett Kelly and Meg Murray – Wholesale Marketing Team \nTo register for the class please click here. \nRemember the class will be held at 3 pm\, EST (12 pm\, PST) \nHOW to Join the Webinar \n\nREGISTRATION: Once you register\, you will immediately get a confirmation email that will have the link to the class\, the ability to add that class to your calendar and instructions on joining.\nJOIN: Please join the conference via the provided link in your confirmation email 5-10 minutes prior to the start of the class.\n\nAUDIO: COMPUTER: Once you’re in the waiting room\, you can also choose to listen via your computer’s speakers.\nTELEPHONE: Once you’re in the waiting room\, choose to either “Use Telephone” and call the number provided\, OR\n\n\nACCESS CODE: Then put in the access code followed by #.\nAUDIO CODE: If you’re using your phone for audio\, please also put in Audio Code\n\nYou’re now in the class! We’re looking forward to it!
URL:https://www.farwholesale.com/event/total-expert-workshop-18/
CATEGORIES:Marketing Sessions,Training
ATTACH;FMTTYPE=image/png:https://www.farwholesale.com/app/uploads/2019/08/pipline-landing-page.png
ORGANIZER;CN="Christina Danish":MAILTO:cdanish@fareverse.com
END:VEVENT
BEGIN:VEVENT
DTSTART;TZID=America/New_York:20210624T150000
DTEND;TZID=America/New_York:20210624T160000
DTSTAMP:20260420T075629
CREATED:20210527T135626Z
LAST-MODIFIED:20210527T135626Z
UID:3405-1624546800-1624550400@www.farwholesale.com
SUMMARY:Total Expert Workshop
DESCRIPTION:Total Expert Workshop – 30 minute training on how to use Total Expert \nTrainer: Ryan Schmidt\, Brett Kelly and Meg Murray – Wholesale Marketing Team \nTo register for the class please click here. \nRemember the class will be held at 3 pm\, EST (12 pm\, PST) \nHOW to Join the Webinar \n\nREGISTRATION: Once you register\, you will immediately get a confirmation email that will have the link to the class\, the ability to add that class to your calendar and instructions on joining.\nJOIN: Please join the conference via the provided link in your confirmation email 5-10 minutes prior to the start of the class.\n\nAUDIO: COMPUTER: Once you’re in the waiting room\, you can also choose to listen via your computer’s speakers.\nTELEPHONE: Once you’re in the waiting room\, choose to either “Use Telephone” and call the number provided\, OR\n\n\nACCESS CODE: Then put in the access code followed by #.\nAUDIO CODE: If you’re using your phone for audio\, please also put in Audio Code\n\nYou’re now in the class! We’re looking forward to it!
URL:https://www.farwholesale.com/event/total-expert-workshop-17/
CATEGORIES:Marketing Sessions,Training
ATTACH;FMTTYPE=image/png:https://www.farwholesale.com/app/uploads/2019/08/pipline-landing-page.png
ORGANIZER;CN="Christina Danish":MAILTO:cdanish@fareverse.com
END:VEVENT
BEGIN:VEVENT
DTSTART;TZID=America/New_York:20210617T150000
DTEND;TZID=America/New_York:20210617T160000
DTSTAMP:20260420T075629
CREATED:20210527T135516Z
LAST-MODIFIED:20210527T135516Z
UID:3403-1623942000-1623945600@www.farwholesale.com
SUMMARY:Total Expert Workshop
DESCRIPTION:Total Expert Workshop – 30 minute training on how to use Total Expert \nTrainer: Ryan Schmidt\, Brett Kelly and Meg Murray – Wholesale Marketing Team \nTo register for the class please click here. \nRemember the class will be held at 3 pm\, EST (12 pm\, PST) \nHOW to Join the Webinar \n\nREGISTRATION: Once you register\, you will immediately get a confirmation email that will have the link to the class\, the ability to add that class to your calendar and instructions on joining.\nJOIN: Please join the conference via the provided link in your confirmation email 5-10 minutes prior to the start of the class.\n\nAUDIO: COMPUTER: Once you’re in the waiting room\, you can also choose to listen via your computer’s speakers.\nTELEPHONE: Once you’re in the waiting room\, choose to either “Use Telephone” and call the number provided\, OR\n\n\nACCESS CODE: Then put in the access code followed by #.\nAUDIO CODE: If you’re using your phone for audio\, please also put in Audio Code\n\nYou’re now in the class! We’re looking forward to it!
URL:https://www.farwholesale.com/event/total-expert-workshop-16/
CATEGORIES:Marketing Sessions,Training
ATTACH;FMTTYPE=image/png:https://www.farwholesale.com/app/uploads/2019/08/pipline-landing-page.png
ORGANIZER;CN="Christina Danish":MAILTO:cdanish@fareverse.com
END:VEVENT
BEGIN:VEVENT
DTSTART;TZID=America/New_York:20210610T150000
DTEND;TZID=America/New_York:20210610T160000
DTSTAMP:20260420T075629
CREATED:20210527T135402Z
LAST-MODIFIED:20210527T135402Z
UID:3401-1623337200-1623340800@www.farwholesale.com
SUMMARY:Total Expert Workshop
DESCRIPTION:Total Expert Workshop – 30 minute training on how to use Total Expert \nTrainer: Ryan Schmidt\, Brett Kelly and Meg Murray – Wholesale Marketing Team \nTo register for the class please click here. \nRemember the class will be held at 3 pm\, EST (12 pm\, PST) \nHOW to Join the Webinar \n\nREGISTRATION: Once you register\, you will immediately get a confirmation email that will have the link to the class\, the ability to add that class to your calendar and instructions on joining.\nJOIN: Please join the conference via the provided link in your confirmation email 5-10 minutes prior to the start of the class.\n\nAUDIO: COMPUTER: Once you’re in the waiting room\, you can also choose to listen via your computer’s speakers.\nTELEPHONE: Once you’re in the waiting room\, choose to either “Use Telephone” and call the number provided\, OR\n\n\nACCESS CODE: Then put in the access code followed by #.\nAUDIO CODE: If you’re using your phone for audio\, please also put in Audio Code\n\nYou’re now in the class! We’re looking forward to it!
URL:https://www.farwholesale.com/event/total-expert-workshop-15/
CATEGORIES:Marketing Sessions,Training
ATTACH;FMTTYPE=image/png:https://www.farwholesale.com/app/uploads/2019/08/pipline-landing-page.png
ORGANIZER;CN="Christina Danish":MAILTO:cdanish@fareverse.com
END:VEVENT
BEGIN:VEVENT
DTSTART;TZID=America/New_York:20210603T150000
DTEND;TZID=America/New_York:20210603T160000
DTSTAMP:20260420T075629
CREATED:20210527T135245Z
LAST-MODIFIED:20210527T135245Z
UID:3399-1622732400-1622736000@www.farwholesale.com
SUMMARY:Total Expert Workshop
DESCRIPTION:Total Expert Workshop – 30 minute training on how to use Total Expert \nTrainer: Ryan Schmidt\, Brett Kelly and Meg Murray – Wholesale Marketing Team \nTo register for the class please click here. \nRemember the class will be held at 3 pm\, EST (12 pm\, PST) \nHOW to Join the Webinar \n\nREGISTRATION: Once you register\, you will immediately get a confirmation email that will have the link to the class\, the ability to add that class to your calendar and instructions on joining.\nJOIN: Please join the conference via the provided link in your confirmation email 5-10 minutes prior to the start of the class.\n\nAUDIO: COMPUTER: Once you’re in the waiting room\, you can also choose to listen via your computer’s speakers.\nTELEPHONE: Once you’re in the waiting room\, choose to either “Use Telephone” and call the number provided\, OR\n\n\nACCESS CODE: Then put in the access code followed by #.\nAUDIO CODE: If you’re using your phone for audio\, please also put in Audio Code\n\nYou’re now in the class! We’re looking forward to it!
URL:https://www.farwholesale.com/event/total-expert-workshop-14/
CATEGORIES:Marketing Sessions,Training
ATTACH;FMTTYPE=image/png:https://www.farwholesale.com/app/uploads/2019/08/pipline-landing-page.png
ORGANIZER;CN="Christina Danish":MAILTO:cdanish@fareverse.com
END:VEVENT
BEGIN:VEVENT
DTSTART;TZID=America/New_York:20210527T150000
DTEND;TZID=America/New_York:20210527T160000
DTSTAMP:20260420T075629
CREATED:20210423T192346Z
LAST-MODIFIED:20210423T192346Z
UID:3191-1622127600-1622131200@www.farwholesale.com
SUMMARY:Total Expert Workshop
DESCRIPTION:Total Expert Workshop – 30 minute training on how to use Total Expert \nTrainer: Ryan Schmidt\, Brett Kelly and Meg Murray – Wholesale Marketing Team \nTo register for the class please click here. \nRemember the class will be held at 3 pm\, EST (12 pm\, PST) \nHOW to Join the Webinar \n\nREGISTRATION: Once you register\, you will immediately get a confirmation email that will have the link to the class\, the ability to add that class to your calendar and instructions on joining.\nJOIN: Please join the conference via the provided link in your confirmation email 5-10 minutes prior to the start of the class.\n\nAUDIO: COMPUTER: Once you’re in the waiting room\, you can also choose to listen via your computer’s speakers.\nTELEPHONE: Once you’re in the waiting room\, choose to either “Use Telephone” and call the number provided\, OR\n\n\nACCESS CODE: Then put in the access code followed by #.\nAUDIO CODE: If you’re using your phone for audio\, please also put in Audio Code\n\nYou’re now in the class! We’re looking forward to it!
URL:https://www.farwholesale.com/event/total-expert-workshop-13/
CATEGORIES:Marketing Sessions,Training
ATTACH;FMTTYPE=image/png:https://www.farwholesale.com/app/uploads/2019/08/pipline-landing-page.png
ORGANIZER;CN="Christina Danish":MAILTO:cdanish@fareverse.com
END:VEVENT
BEGIN:VEVENT
DTSTART;TZID=America/New_York:20210520T150000
DTEND;TZID=America/New_York:20210520T170000
DTSTAMP:20260420T075629
CREATED:20210423T192227Z
LAST-MODIFIED:20210423T192227Z
UID:3189-1621522800-1621530000@www.farwholesale.com
SUMMARY:Total Expert Workshop
DESCRIPTION:Total Expert Workshop – 30 minute training on how to use Total Expert \nTrainer: Ryan Schmidt\, Brett Kelly and Meg Murray – Wholesale Marketing Team \nTo register for the class please click here. \nRemember the class will be held at 3 pm\, EST (12 pm\, PST) \nHOW to Join the Webinar \n\nREGISTRATION: Once you register\, you will immediately get a confirmation email that will have the link to the class\, the ability to add that class to your calendar and instructions on joining.\nJOIN: Please join the conference via the provided link in your confirmation email 5-10 minutes prior to the start of the class.\n\nAUDIO: COMPUTER: Once you’re in the waiting room\, you can also choose to listen via your computer’s speakers.\nTELEPHONE: Once you’re in the waiting room\, choose to either “Use Telephone” and call the number provided\, OR\n\n\nACCESS CODE: Then put in the access code followed by #.\nAUDIO CODE: If you’re using your phone for audio\, please also put in Audio Code\n\nYou’re now in the class! We’re looking forward to it!
URL:https://www.farwholesale.com/event/total-expert-workshop-12/
CATEGORIES:Marketing Sessions,Training
ATTACH;FMTTYPE=image/png:https://www.farwholesale.com/app/uploads/2019/08/pipline-landing-page.png
ORGANIZER;CN="Christina Danish":MAILTO:cdanish@fareverse.com
END:VEVENT
BEGIN:VEVENT
DTSTART;TZID=America/New_York:20210513T150000
DTEND;TZID=America/New_York:20210513T160000
DTSTAMP:20260420T075629
CREATED:20210423T192105Z
LAST-MODIFIED:20210423T192105Z
UID:3187-1620918000-1620921600@www.farwholesale.com
SUMMARY:Total Expert Workshop
DESCRIPTION:Total Expert Workshop – 30 minute training on how to use Total Expert \nTrainer: Ryan Schmidt\, Brett Kelly and Meg Murray – Wholesale Marketing Team \nTo register for the class please click here. \nRemember the class will be held at 3 pm\, EST (12 pm\, PST) \nHOW to Join the Webinar \n\nREGISTRATION: Once you register\, you will immediately get a confirmation email that will have the link to the class\, the ability to add that class to your calendar and instructions on joining.\nJOIN: Please join the conference via the provided link in your confirmation email 5-10 minutes prior to the start of the class.\n\nAUDIO: COMPUTER: Once you’re in the waiting room\, you can also choose to listen via your computer’s speakers.\nTELEPHONE: Once you’re in the waiting room\, choose to either “Use Telephone” and call the number provided\, OR\n\n\nACCESS CODE: Then put in the access code followed by #.\nAUDIO CODE: If you’re using your phone for audio\, please also put in Audio Code\n\nYou’re now in the class! We’re looking forward to it!
URL:https://www.farwholesale.com/event/total-expert-workshop-11/
CATEGORIES:Marketing Sessions,Training
ATTACH;FMTTYPE=image/png:https://www.farwholesale.com/app/uploads/2019/08/pipline-landing-page.png
ORGANIZER;CN="Christina Danish":MAILTO:cdanish@fareverse.com
END:VEVENT
BEGIN:VEVENT
DTSTART;TZID=America/New_York:20210506T150000
DTEND;TZID=America/New_York:20210506T160000
DTSTAMP:20260420T075629
CREATED:20210423T185405Z
LAST-MODIFIED:20210423T185405Z
UID:3174-1620313200-1620316800@www.farwholesale.com
SUMMARY:Total Expert Workshop
DESCRIPTION:Total Expert Workshop – 30 minute training on how to use Total Expert \nTrainer: Ryan Schmidt\, Brett Kelly and Meg Murray – Wholesale Marketing Team \nTo register for the class please click here. \nRemember the class will be held at 3 pm\, EST (12 pm\, PST) \nHOW to Join the Webinar \n\nREGISTRATION: Once you register\, you will immediately get a confirmation email that will have the link to the class\, the ability to add that class to your calendar and instructions on joining.\nJOIN: Please join the conference via the provided link in your confirmation email 5-10 minutes prior to the start of the class.\n\nAUDIO: COMPUTER: Once you’re in the waiting room\, you can also choose to listen via your computer’s speakers.\nTELEPHONE: Once you’re in the waiting room\, choose to either “Use Telephone” and call the number provided\, OR\n\n\nACCESS CODE: Then put in the access code followed by #.\nAUDIO CODE: If you’re using your phone for audio\, please also put in Audio Code\n\nYou’re now in the class! We’re looking forward to it!
URL:https://www.farwholesale.com/event/total-expert-workshop-10/
CATEGORIES:Marketing Sessions,Training
ATTACH;FMTTYPE=image/png:https://www.farwholesale.com/app/uploads/2019/08/pipline-landing-page.png
ORGANIZER;CN="Christina Danish":MAILTO:cdanish@fareverse.com
END:VEVENT
BEGIN:VEVENT
DTSTART;TZID=America/New_York:20210408T130000
DTEND;TZID=America/New_York:20210408T140000
DTSTAMP:20260420T075629
CREATED:20210329T214410Z
LAST-MODIFIED:20210329T214410Z
UID:3108-1617886800-1617890400@www.farwholesale.com
SUMMARY:EquityAvail Marketing and Sales Workshop
DESCRIPTION:This workshop is designed to help you navigate the sell and marketing of EquityAvail\, our new revolutionary Retirement Mortgage. \nTrainer: Ryan Schmidt – Wholesale Marketing Director \nTo register for the class please click here. \nRemember the class will be held at 1pm\, EST (10am\, PST) \nHOW to Join the Webinar \n\nREGISTRATION: Once you register\, you will immediately get a confirmation email that will have the link to the class\, the ability to add that class to your calendar and instructions on joining.\nJOIN: Please join the conference via the provided link in your confirmation email 5-10 minutes prior to the start of the class.\n\nAUDIO: COMPUTER: Once you’re in the waiting room\, you can also choose to listen via your computer’s speakers.\nTELEPHONE: Once you’re in the waiting room\, choose to either “Use Telephone” and call the number provided\, OR\n\n\nACCESS CODE: Then put in the access code followed by #.\nAUDIO CODE: If you’re using your phone for audio\, please also put in Audio Code\n\nYou’re now in the class! We’re looking forward to it!
URL:https://www.farwholesale.com/event/equityavail-marketing-and-sales-workshop-4/
CATEGORIES:Marketing Sessions,Training
ATTACH;FMTTYPE=image/png:https://www.farwholesale.com/app/uploads/2021/03/EquityAvail_Logo_RGB@2x.png
ORGANIZER;CN="Christina Danish":MAILTO:cdanish@fareverse.com
END:VEVENT
BEGIN:VEVENT
DTSTART;TZID=America/New_York:20210406T150000
DTEND;TZID=America/New_York:20210406T160000
DTSTAMP:20260420T075629
CREATED:20210329T214257Z
LAST-MODIFIED:20210329T214257Z
UID:3106-1617721200-1617724800@www.farwholesale.com
SUMMARY:EquityAvail Marketing and Sales Workshop
DESCRIPTION:This workshop is designed to help you navigate the sell and marketing of EquityAvail\, our new revolutionary Retirement Mortgage. \nTrainer: Ryan Schmidt – Wholesale Marketing Director \nTo register for the class please click here. \nRemember the class will be held at 3 pm\, EST (12pm\, PST) \nHOW to Join the Webinar \n\nREGISTRATION: Once you register\, you will immediately get a confirmation email that will have the link to the class\, the ability to add that class to your calendar and instructions on joining.\nJOIN: Please join the conference via the provided link in your confirmation email 5-10 minutes prior to the start of the class.\n\nAUDIO: COMPUTER: Once you’re in the waiting room\, you can also choose to listen via your computer’s speakers.\nTELEPHONE: Once you’re in the waiting room\, choose to either “Use Telephone” and call the number provided\, OR\n\n\nACCESS CODE: Then put in the access code followed by #.\nAUDIO CODE: If you’re using your phone for audio\, please also put in Audio Code\n\nYou’re now in the class! We’re looking forward to it!
URL:https://www.farwholesale.com/event/equityavail-marketing-and-sales-workshop-3/
CATEGORIES:Marketing Sessions,Training
ATTACH;FMTTYPE=image/png:https://www.farwholesale.com/app/uploads/2021/03/EquityAvail_Logo_RGB@2x.png
ORGANIZER;CN="Christina Danish":MAILTO:cdanish@fareverse.com
END:VEVENT
BEGIN:VEVENT
DTSTART;TZID=America/New_York:20210401T140000
DTEND;TZID=America/New_York:20210401T150000
DTSTAMP:20260420T075629
CREATED:20210329T214135Z
LAST-MODIFIED:20210329T214135Z
UID:3104-1617285600-1617289200@www.farwholesale.com
SUMMARY:EquityAvail Marketing and Sales Workshop
DESCRIPTION:This workshop is designed to help you navigate the sell and marketing of EquityAvail\, our new revolutionary Retirement Mortgage. \nTrainer: Ryan Schmidt – Wholesale Marketing Director \nTo register for the class please click here. \nRemember the class will be held at 2 pm\, EST (11am\, PST) \nHOW to Join the Webinar \n\nREGISTRATION: Once you register\, you will immediately get a confirmation email that will have the link to the class\, the ability to add that class to your calendar and instructions on joining.\nJOIN: Please join the conference via the provided link in your confirmation email 5-10 minutes prior to the start of the class.\n\nAUDIO: COMPUTER: Once you’re in the waiting room\, you can also choose to listen via your computer’s speakers.\nTELEPHONE: Once you’re in the waiting room\, choose to either “Use Telephone” and call the number provided\, OR\n\n\nACCESS CODE: Then put in the access code followed by #.\nAUDIO CODE: If you’re using your phone for audio\, please also put in Audio Code\n\nYou’re now in the class! We’re looking forward to it!
URL:https://www.farwholesale.com/event/equityavail-marketing-and-sales-workshop-2/
CATEGORIES:Marketing Sessions,Training
ATTACH;FMTTYPE=image/png:https://www.farwholesale.com/app/uploads/2021/03/EquityAvail_Logo_RGB@2x.png
ORGANIZER;CN="Christina Danish":MAILTO:cdanish@fareverse.com
END:VEVENT
BEGIN:VEVENT
DTSTART;TZID=America/New_York:20210331T170000
DTEND;TZID=America/New_York:20210331T180000
DTSTAMP:20260420T075629
CREATED:20210329T214017Z
LAST-MODIFIED:20210329T214017Z
UID:3102-1617210000-1617213600@www.farwholesale.com
SUMMARY:EquityAvail Marketing and Sales Workshop
DESCRIPTION:This workshop is designed to help you navigate the sell and marketing of EquityAvail\, our new revolutionary Retirement Mortgage. \nTrainer: Ryan Schmidt – Wholesale Marketing Director \nTo register for the class please click here. \nRemember the class will be held at 5 pm\, EST (2 pm\, PST) \nHOW to Join the Webinar \n\nREGISTRATION: Once you register\, you will immediately get a confirmation email that will have the link to the class\, the ability to add that class to your calendar and instructions on joining.\nJOIN: Please join the conference via the provided link in your confirmation email 5-10 minutes prior to the start of the class.\n\nAUDIO: COMPUTER: Once you’re in the waiting room\, you can also choose to listen via your computer’s speakers.\nTELEPHONE: Once you’re in the waiting room\, choose to either “Use Telephone” and call the number provided\, OR\n\n\nACCESS CODE: Then put in the access code followed by #.\nAUDIO CODE: If you’re using your phone for audio\, please also put in Audio Code\n\nYou’re now in the class! We’re looking forward to it!
URL:https://www.farwholesale.com/event/equityavail-marketing-and-sales-workshop/
CATEGORIES:Marketing Sessions,Training
ATTACH;FMTTYPE=image/png:https://www.farwholesale.com/app/uploads/2021/03/EquityAvail_Logo_RGB@2x.png
ORGANIZER;CN="Christina Danish":MAILTO:cdanish@fareverse.com
END:VEVENT
END:VCALENDAR